BEGIN:VCALENDAR
VERSION:2.0
PRODID:-//ical.marudot.com//iCal Event Maker
CALSCALE:GREGORIAN
BEGIN:VTIMEZONE
TZID:America/New_York
LAST-MODIFIED:20250410T142247Z
TZURL:https://www.tzurl.org/zoneinfo-outlook/America/New_York
X-LIC-LOCATION:America/New_York
BEGIN:DAYLIGHT
TZNAME:EDT
TZOFFSETFROM:-0500
TZOFFSETTO:-0400
DTSTART:19700308T020000
RRULE:FREQ=YEARLY;BYMONTH=3;BYDAY=2SU
END:DAYLIGHT
BEGIN:STANDARD
TZNAME:EST
TZOFFSETFROM:-0400
TZOFFSETTO:-0500
DTSTART:19701101T020000
RRULE:FREQ=YEARLY;BYMONTH=11;BYDAY=1SU
END:STANDARD
END:VTIMEZONE
BEGIN:VEVENT
DTSTAMP:20260305T042335Z
UID:1772684584415-82485@ical.marudot.com
DTSTART;TZID=America/New_York:20260328T101500
DTEND;TZID=America/New_York:20260328T123000
SUMMARY:2026 Tour of Olympians
URL:https://www.potomacspeedskating.org/tour-of-olympians
DESCRIPTION:Potomac Speedskating Club is thrilled to be the final stop of the 2026 US Speedskating Tour of Olympians! The event is scheduled for Saturday\, March 28\, 10:15 AM – 12:30 PM at Cabin John Ice Rink. The event is free and open to public\; no registration is needed. It will feature both on-ice and off-ice activities.\n\nWe are incredibly proud of the three Potomac skaters and alumni who competed in the 2026 Winter Olympics: Brandon Kim\, Kamryn Lute\, and Andrew Heo.\n\nWe anticipate 2026 Olympian Kristen Santos-Griswold\, Brandon Kim\, Andrew Heo and Conor McDermott-Mostowy will be present at our event.
LOCATION:Cabin John Ice Rink (10610 Westlake Drive Rockville\, MD 20852)
BEGIN:VALARM
ACTION:DISPLAY
DESCRIPTION:2026 Tour of Olympians
TRIGGER:-PT1H
END:VALARM
BEGIN:VALARM
ACTION:DISPLAY
DESCRIPTION:2026 Tour of Olympians
TRIGGER:-P1D
END:VALARM
END:VEVENT
END:VCALENDAR